BEGIN:VCALENDAR
VERSION:2.0
PRODID:-//Kilkenny Event Guide, Live Music, Theatre, Festivals - ECPv4.6//NONSGML v1.0//EN
CALSCALE:GREGORIAN
METHOD:PUBLISH
X-WR-CALNAME:Kilkenny Event Guide, Live Music, Theatre, Festivals
X-ORIGINAL-URL:http://www.kilkennyonline.ie
X-WR-CALDESC:Events for Kilkenny Event Guide, Live Music, Theatre, Festivals
BEGIN:VEVENT
DTSTART;TZID=Europe/Dublin:20171102T183000
DTEND;TZID=Europe/Dublin:20171102T183000
DTSTAMP:20171107T174410
CREATED:20170302T103310Z
LAST-MODIFIED:20170302T103310Z
UID:1482-1509647400-1509647400@www.kilkennyonline.ie
SUMMARY:Live Music @ Matt the Millers
DESCRIPTION:
URL:http://www.kilkennyonline.ie/event/live-trad-music-matt-the-millers/2017-11-02/
LOCATION:1 John Street\, \, Kilkenny City\, Ireland
GEO:52.6521945;-7.2498471
X-APPLE-STRUCTURED-LOCATION;VALUE=URI;X-ADDRESS=1 John Street  Kilkenny City Ireland;X-APPLE-RADIUS=500;X-TITLE=1 John Street\,:geo:-7.2498471,52.6521945
CATEGORIES:Live Music
END:VEVENT
END:VCALENDAR