BEGIN:VCALENDAR
VERSION:2.0
PRODID:-//Kilkenny Event Guide, Live Music, Theatre, Festivals - ECPv4.6//NONSGML v1.0//EN
CALSCALE:GREGORIAN
METHOD:PUBLISH
X-WR-CALNAME:Kilkenny Event Guide, Live Music, Theatre, Festivals
X-ORIGINAL-URL:http://www.kilkennyonline.ie
X-WR-CALDESC:Events for Kilkenny Event Guide, Live Music, Theatre, Festivals
BEGIN:VEVENT
DTSTART;TZID=Europe/Dublin:20171102T213000
DTEND;TZID=Europe/Dublin:20171102T213000
DTSTAMP:20171107T174734
CREATED:20170214T181922Z
LAST-MODIFIED:20170214T181922Z
UID:1382-1509658200-1509658200@www.kilkennyonline.ie
SUMMARY:Big Johns Krazy Karaoke @ Biddy Early's
DESCRIPTION:
URL:http://www.kilkennyonline.ie/event/big-johns-krazy-karaoke-biddy-earlys/2017-11-02/
LOCATION:6 John Street\,\, Kilkenny\, Ireland
GEO:52.6524032;-7.2495047
X-APPLE-STRUCTURED-LOCATION;VALUE=URI;X-ADDRESS=6 John Street Kilkenny Ireland;X-APPLE-RADIUS=500;X-TITLE=6 John Street\,:geo:-7.2495047,52.6524032
CATEGORIES:DJ
END:VEVENT
END:VCALENDAR