BEGIN:VCALENDAR
VERSION:2.0
PRODID:-//Kilkenny Event Guide, Live Music, Theatre, Festivals - ECPv4.6//NONSGML v1.0//EN
CALSCALE:GREGORIAN
METHOD:PUBLISH
X-WR-CALNAME:Kilkenny Event Guide, Live Music, Theatre, Festivals
X-ORIGINAL-URL:http://www.kilkennyonline.ie
X-WR-CALDESC:Events for Kilkenny Event Guide, Live Music, Theatre, Festivals
BEGIN:VEVENT
DTSTART;TZID=Europe/Dublin:20171102T200000
DTEND;TZID=Europe/Dublin:20171102T200000
DTSTAMP:20171107T174547
CREATED:20170214T183111Z
LAST-MODIFIED:20170214T183111Z
UID:1398-1509652800-1509652800@www.kilkennyonline.ie
SUMMARY:Ballads & Trad @ Lanigans
DESCRIPTION:
URL:http://www.kilkennyonline.ie/event/ballads-trad-lanigans/2017-11-02/
LOCATION:28/29 Rose Inn Street\,\, Kilkenny\, Ireland
GEO:52.6515576;-7.2514006
X-APPLE-STRUCTURED-LOCATION;VALUE=URI;X-ADDRESS=28/29 Rose Inn Street Kilkenny Ireland;X-APPLE-RADIUS=500;X-TITLE=28/29 Rose Inn Street\,:geo:-7.2514006,52.6515576
CATEGORIES:Live Music
END:VEVENT
END:VCALENDAR